BEGIN:VCALENDAR
VERSION:2.0
PRODID:-//Squarespace Inc/Squarespace 6//v6//EN
BEGIN:VEVENT
UID:60331f52c984ea01f5004ca3@squarespace.com
DTSTAMP:20210222T044413Z
DTSTART:20210418T003000Z
DTEND:20210418T053000Z
SUMMARY:BIG Little Art Fest
GEO:-35.117387;139.275653
LOCATION:Murray Bridge Regional Gallery\, 27 Sixth Street\, Murray Bridge\, 
 SA\, 5253\, Australia
END:VEVENT
END:VCALENDAR
