BEGIN:VCALENDAR
VERSION:2.0
PRODID:-//Squarespace Inc/Squarespace 6//v6//EN
BEGIN:VEVENT
UID:5e461036d8a89a29254c17ba@squarespace.com
DTSTAMP:20200214T032447Z
DTSTART:20200228T063000Z
DTEND:20200301T103000Z
SUMMARY:MURRAY BRIDGE FRINGE
END:VEVENT
END:VCALENDAR
