BEGIN:VCALENDAR
VERSION:2.0
PRODID:-//Squarespace Inc/Squarespace 6//v6//EN
BEGIN:VEVENT
UID:5f71912c641b9366711fc749@squarespace.com
DTSTAMP:20200930T093821Z
DTSTART:20201017T000000Z
DTEND:20201017T040000Z
SUMMARY:Macramé with Meg Castle
GEO:-35.117926;139.276288
LOCATION:Murray Bridge Regional Gallery\, 27 Sixth Street\, Murray Bridge\, 
 SA\, 5253\, Australia
END:VEVENT
END:VCALENDAR
