BEGIN:VCALENDAR
VERSION:2.0
PRODID:-//Squarespace Inc/Squarespace 6//v6//EN
BEGIN:VEVENT
UID:5c6734389b747a59a52b753b@squarespace.com
DTSTAMP:20190215T221039Z
DTSTART:20190215T220000Z
DTEND:20190603T073000Z
SUMMARY:SALA Artists Registration Subsidies 
END:VEVENT
END:VCALENDAR
