BEGIN:VCALENDAR
VERSION:2.0
PRODID:-//Squarespace Inc/Squarespace 6//v6//EN
BEGIN:VEVENT
UID:5d53af1e10d8800001f862ec@squarespace.com
DTSTAMP:20190904T032535Z
DTSTART:20191122T233000Z
DTEND:20191123T043000Z
SUMMARY:Sixth Street Handmade Makers Market 
END:VEVENT
END:VCALENDAR
