BEGIN:VCALENDAR
VERSION:2.0
PRODID:-//Squarespace Inc/Squarespace 6//v6//EN
BEGIN:VEVENT
UID:5b10e1a170a6ad1221b5f317@squarespace.com
DTSTAMP:20180601T064848Z
DTSTART:20180929T010000Z
DTEND:20180929T053000Z
SUMMARY:Papermaking with Jeninda
END:VEVENT
END:VCALENDAR
