BEGIN:VCALENDAR
VERSION:2.0
PRODID:-//Squarespace Inc/Squarespace 6//v6//EN
BEGIN:VEVENT
UID:5b6bc0ac4d7a9c53e59e066c@squarespace.com
DTSTAMP:20180813T000209Z
DTSTART:20180922T000000Z
DTEND:20180922T063000Z
SUMMARY:Japanese Ikebana & Oribe Style Pottery Workshop
END:VEVENT
END:VCALENDAR
