BEGIN:VCALENDAR
VERSION:2.0
PRODID:-//Squarespace Inc/Squarespace 6//v6//EN
BEGIN:VEVENT
UID:5b0762db352f5337949a5bc6@squarespace.com
DTSTAMP:20180525T012658Z
DTSTART:20180825T003000Z
DTEND:20180825T053000Z
SUMMARY:Cartooning for Beginners
END:VEVENT
END:VCALENDAR
