BEGIN:VCALENDAR
VERSION:2.0
PRODID:-//Squarespace Inc/Squarespace 6//v6//EN
BEGIN:VEVENT
UID:5b67c1dd0e2e72aae8af177d@squarespace.com
DTSTAMP:20180806T034316Z
DTSTART:20180823T003000Z
DTEND:20180823T033000Z
SUMMARY:Altered Book Art Journal Workshop with Janet Gallagher
END:VEVENT
END:VCALENDAR
