BEGIN:VCALENDAR
VERSION:2.0
PRODID:-//Squarespace Inc/Squarespace 6//v6//EN
BEGIN:VEVENT
UID:5b7a027c4d7a9c3a9598a499@squarespace.com
DTSTAMP:20181019T010311Z
DTSTART:20181024T233000Z
DTEND:20181026T043000Z
SUMMARY:Ngarrindjeri Weaving Workshop
END:VEVENT
END:VCALENDAR
