BEGIN:VCALENDAR
VERSION:2.0
PRODID:-//Squarespace Inc/Squarespace 6//v6//EN
BEGIN:VEVENT
UID:5b10e0261ae6cf916a65f76d@squarespace.com
DTSTAMP:20180601T060013Z
DTSTART:20180718T010000Z
DTEND:20180718T060000Z
SUMMARY:Busy Hands Arty Crafts Children's Workshop
END:VEVENT
END:VCALENDAR
