BEGIN:VCALENDAR
VERSION:2.0
PRODID:-//Squarespace Inc/Squarespace 6//v6//EN
BEGIN:VEVENT
UID:5b07607b70a6ada5829b35c3@squarespace.com
DTSTAMP:20180525T012648Z
DTSTART:20180623T010000Z
DTEND:20180623T060000Z
SUMMARY:Japanese Ceremonial Bowls
END:VEVENT
END:VCALENDAR
