BEGIN:VCALENDAR
VERSION:2.0
PRODID:-//Squarespace Inc/Squarespace 6//v6//EN
BEGIN:VEVENT
UID:5b075d7f03ce647cacb88043@squarespace.com
DTSTAMP:20180601T055403Z
DTSTART:20180616T003000Z
DTEND:20180616T053000Z
SUMMARY:Silver Clay Workshop
END:VEVENT
END:VCALENDAR
