BEGIN:VCALENDAR
VERSION:2.0
PRODID:-//Squarespace Inc/Squarespace 6//v6//EN
BEGIN:VEVENT
UID:5ad56777aa4a998ab1169573@squarespace.com
DTSTAMP:20180518T023728Z
DTSTART:20180520T010000Z
DTEND:20180520T053000Z
SUMMARY:LITTLE ART FEST
END:VEVENT
END:VCALENDAR
