BEGIN:VCALENDAR
VERSION:2.0
PRODID:-//Squarespace Inc/Squarespace 6//v6//EN
BEGIN:VEVENT
UID:5ab3547f352f53484000864a@squarespace.com
DTSTAMP:20180328T005300Z
DTSTART:20180408T010000Z
DTEND:20180408T060000Z
SUMMARY:MAKING POTTERY FOR BEGINNERS
END:VEVENT
END:VCALENDAR
