BEGIN:VCALENDAR
VERSION:2.0
PRODID:-//Squarespace Inc/Squarespace 6//v6//EN
BEGIN:VEVENT
UID:5ab352811ae6cffd4cd8af85@squarespace.com
DTSTAMP:20180417T001923Z
DTSTART:20180428T003000Z
DTEND:20180428T063000Z
SUMMARY:DRAWING WITH PRECIOUS METALS - WORKSHOP WITH CAROLE BANN
END:VEVENT
END:VCALENDAR
