BEGIN:VCALENDAR
VERSION:2.0
PRODID:-//Squarespace Inc/Squarespace 6//v6//EN
BEGIN:VEVENT
UID:5bd93fec4fa51ae2f227df27@squarespace.com
DTSTAMP:20181031T055302Z
DTSTART:20181122T000000Z
DTEND:20181122T030000Z
SUMMARY:Silk Scarf Painting with Helen Moon
END:VEVENT
END:VCALENDAR
