BEGIN:VCALENDAR
VERSION:2.0
PRODID:-//Squarespace Inc/Squarespace 6//v6//EN
BEGIN:VEVENT
UID:5bc026f124a6945a5817f555@squarespace.com
DTSTAMP:20181012T061031Z
DTSTART:20181018T063000Z
DTEND:20181018T103000Z
SUMMARY:Magic zine: YOU ARE ART  Film\, Fair\, Forum + Curators floortalks:  
 Self Made: zines &amp\; artist books and book work exhibitions
END:VEVENT
END:VCALENDAR
