BEGIN:VCALENDAR
VERSION:2.0
PRODID:-//Squarespace Inc/Squarespace 6//v6//EN
BEGIN:VEVENT
UID:599cd917bebafbcd8c6446fc@squarespace.com
DTSTAMP:20180813T001605Z
DTSTART:20181109T230000Z
DTEND:20181110T050000Z
SUMMARY:SIXTH STREET HANDMADE artist market
END:VEVENT
END:VCALENDAR
