BEGIN:VCALENDAR
VERSION:2.0
PRODID:-//Squarespace Inc/Squarespace 6//v6//EN
BEGIN:VEVENT
UID:5cffb16ad3fb3f0001ceb67d@squarespace.com
DTSTAMP:20190729T022105Z
DTSTART:20190727T003000Z
DTEND:20190908T063000Z
SUMMARY:OPEN HOUSE: 3rd Tamworth Textile Triennial
END:VEVENT
END:VCALENDAR
