BEGIN:VCALENDAR
VERSION:2.0
PRODID:-//Squarespace Inc/Squarespace 6//v6//EN
BEGIN:VEVENT
UID:5cffa247b663000001b8532d@squarespace.com
DTSTAMP:20190701T023435Z
DTSTART:20190608T003000Z
DTEND:20190721T063000Z
SUMMARY:NGARRINDJERI RUWE (COUNTRY): Cedric Varcoe Paintings
END:VEVENT
END:VCALENDAR
