BEGIN:VCALENDAR
VERSION:2.0
PRODID:-//Squarespace Inc/Squarespace 6//v6//EN
BEGIN:VEVENT
UID:5cff9cbe70935d0001e938da@squarespace.com
DTSTAMP:20190618T225542Z
DTSTART:20190608T003000Z
DTEND:20190721T063000Z
SUMMARY:CONNECTED: Contemporary Ngarrindjeri Weaving
END:VEVENT
END:VCALENDAR
