BEGIN:VCALENDAR
VERSION:2.0
PRODID:-//Squarespace Inc/Squarespace 6//v6//EN
BEGIN:VEVENT
UID:5c9acff115fcc0ad0e58498a@squarespace.com
DTSTAMP:20190327T020318Z
DTSTART:20190413T013000Z
DTEND:20190526T063000Z
SUMMARY:Two's Company\, Three's an Exhibition
END:VEVENT
END:VCALENDAR
