BEGIN:VCALENDAR
VERSION:2.0
PRODID:-//Squarespace Inc/Squarespace 6//v6//EN
BEGIN:VEVENT
UID:5dd1faf779eb68338ee368f8@squarespace.com
DTSTAMP:20200117T042008Z
DTSTART:20191206T233000Z
DTEND:20200112T053000Z
SUMMARY:Mallee Routes: Photographing the Mallee 2019
END:VEVENT
END:VCALENDAR
