BEGIN:VCALENDAR
VERSION:2.0
PRODID:-//Squarespace Inc/Squarespace 6//v6//EN
BEGIN:VEVENT
UID:5ddb35a18f514102b465f632@squarespace.com
DTSTAMP:20191125T020219Z
DTSTART:20191109T003000Z
DTEND:20191201T053000Z
SUMMARY:ROTARY YOUTH ART PRIZE
END:VEVENT
END:VCALENDAR
