BEGIN:VCALENDAR
VERSION:2.0
PRODID:-//Squarespace Inc/Squarespace 6//v6//EN
BEGIN:VEVENT
UID:5d7f2aeaf99317656068c986@squarespace.com
DTSTAMP:20191209T040219Z
DTSTART:20191108T233000Z
DTEND:20191201T053000Z
SUMMARY:PAMELA KOUWENHOVEN : SILENT AUCTION EXHIBITION                                                          
END:VEVENT
END:VCALENDAR
