BEGIN:VCALENDAR
VERSION:2.0
PRODID:-//Squarespace Inc/Squarespace 6//v6//EN
BEGIN:VEVENT
UID:5a3c4df941920253efb7d4df@squarespace.com
DTSTAMP:20180711T064608Z
DTSTART:20180915T003000Z
DTEND:20181021T053000Z
SUMMARY:SELF-MADE: ZINES AND ARTIST BOOKS
END:VEVENT
END:VCALENDAR
