BEGIN:VCALENDAR
VERSION:2.0
PRODID:-//Squarespace Inc/Squarespace 6//v6//EN
BEGIN:VEVENT
UID:5b91fb6903ce64853a9322cc@squarespace.com
DTSTAMP:20181122T041229Z
DTSTART:20180915T003300Z
DTEND:20181022T053300Z
SUMMARY:Book Work
END:VEVENT
END:VCALENDAR
