BEGIN:VCALENDAR
VERSION:2.0
PRODID:-//Squarespace Inc/Squarespace 6//v6//EN
BEGIN:VEVENT
UID:5c1b34741ae6cf51a5dbceab@squarespace.com
DTSTAMP:20181221T020849Z
DTSTART:20181220T233000Z
DTEND:20190203T053000Z
SUMMARY:SYRIA LOST:                                                                                                      
 Sandra Elms and Tony Kearney
END:VEVENT
END:VCALENDAR
