BEGIN:VCALENDAR
VERSION:2.0
PRODID:-//Squarespace Inc/Squarespace 6//v6//EN
BEGIN:VEVENT
UID:5a3c4f39ec212da816bd7768@squarespace.com
DTSTAMP:20181221T020918Z
DTSTART:20181026T073000Z
DTEND:20181202T053000Z
SUMMARY:ROTARY YOUTH ART PRIZE
END:VEVENT
END:VCALENDAR
