BEGIN:VCALENDAR
VERSION:2.0
PRODID:-//Squarespace Inc/Squarespace 6//v6//EN
BEGIN:VEVENT
UID:5b4815b96d2a7399970be146@squarespace.com
DTSTAMP:20181221T020940Z
DTSTART:20181025T233000Z
DTEND:20181202T053000Z
SUMMARY:ENSEMBLE - MARK KIMBER AND DEBORAH PAAUWE
END:VEVENT
END:VCALENDAR
