BEGIN:VCALENDAR
VERSION:2.0
PRODID:-//Squarespace Inc/Squarespace 6//v6//EN
BEGIN:VEVENT
UID:5a3c49bce2c483c249172a5a@squarespace.com
DTSTAMP:20171222T014048Z
DTSTART:20180727T003100Z
DTEND:20180909T063100Z
SUMMARY:ISLAND TO INLAND: CONTEMPORARY ART FROM KANGAROO ISLAND
END:VEVENT
END:VCALENDAR
