BEGIN:VCALENDAR
VERSION:2.0
PRODID:-//Squarespace Inc/Squarespace 6//v6//EN
BEGIN:VEVENT
UID:5fdc755b398d112f3d76c718@squarespace.com
DTSTAMP:20210222T121028Z
DTSTART:20210515T003000Z
DTEND:20210613T063000Z
SUMMARY:2021 Murray Bridge Rotary Art Show
GEO:-35.117387;139.275653
LOCATION:Murray Bridge Regional Gallery\, 27 Sixth Street\, Murray Bridge\, 
 SA\, 5253\, Australia
END:VEVENT
END:VCALENDAR
