BEGIN:VCALENDAR
VERSION:2.0
PRODID:-//Squarespace Inc/Squarespace 6//v6//EN
BEGIN:VEVENT
UID:5fb76afce836170904e82d25@squarespace.com
DTSTAMP:20210222T115612Z
DTSTART:20210319T233000Z
DTEND:20210502T063000Z
SUMMARY:Domestic Arts: Sera Waters
GEO:-35.117387;139.275653
LOCATION:Murray Bridge Regional Gallery\, 27 Sixth Street\, Murray Bridge\, 
 SA\, 5253\, Australia
END:VEVENT
END:VCALENDAR
