BEGIN:VCALENDAR
VERSION:2.0
PRODID:-//Squarespace Inc/Squarespace 6//v6//EN
BEGIN:VEVENT
UID:6013666accabb90d3ba8f18c@squarespace.com
DTSTAMP:20210129T014011Z
DTSTART:20210226T060000Z
DTEND:20210228T080000Z
SUMMARY:MURRAY BRIDGE FRINGE
GEO:-35.117387;139.275653
LOCATION:Murray Bridge Regional Gallery\, 27 Sixth Street\, Murray Bridge\, 
 SA\, 5253\, Australia
END:VEVENT
END:VCALENDAR
