BEGIN:VCALENDAR
VERSION:2.0
PRODID:-//Squarespace Inc/Squarespace 6//v6//EN
BEGIN:VEVENT
UID:5e7aa5daa7fbd75716664072@squarespace.com
DTSTAMP:20200819T020321Z
DTSTART:20200325T003000Z
DTEND:20200531T143000Z
SUMMARY:COVID-19 RESPONSE
END:VEVENT
END:VCALENDAR
