BEGIN:VCALENDAR
VERSION:2.0
PRODID:-//Squarespace Inc/Squarespace 6//v6//EN
BEGIN:VEVENT
UID:5c9c5e43652dea3651a2ccc9@squarespace.com
DTSTAMP:20190328T065114Z
DTSTART:20190407T010000Z
DTEND:20190407T053000Z
SUMMARY:Little Art Fest 2019
END:VEVENT
END:VCALENDAR
