BEGIN:VCALENDAR
VERSION:2.0
PRODID:-//Squarespace Inc/Squarespace 6//v6//EN
BEGIN:VEVENT
UID:5db938f23799b8041e959c48@squarespace.com
DTSTAMP:20191030T073351Z
DTSTART:20191204T000000Z
DTEND:20191204T030000Z
SUMMARY:Silk Painting with Helen Moon
END:VEVENT
END:VCALENDAR
