BEGIN:VCALENDAR
VERSION:2.0
PRODID:-//Squarespace Inc/Squarespace 6//v6//EN
BEGIN:VEVENT
UID:5dc3dcc4f01f7456220b922e@squarespace.com
DTSTAMP:20191112T001825Z
DTSTART:20191127T000000Z
DTEND:20191127T030000Z
SUMMARY:Introduction to Lino Printing  with Lucy Timbrell
END:VEVENT
END:VCALENDAR
