BEGIN:VCALENDAR
VERSION:2.0
PRODID:-//Squarespace Inc/Squarespace 6//v6//EN
BEGIN:VEVENT
UID:5d8e0744824b1c61e615ed0b@squarespace.com
DTSTAMP:20190927T135731Z
DTSTART:20191011T000000Z
DTEND:20191011T040000Z
SUMMARY:GUILDHOUSE: ADVICE BANK
END:VEVENT
END:VCALENDAR
