BEGIN:VCALENDAR
VERSION:2.0
PRODID:-//Squarespace Inc/Squarespace 6//v6//EN
BEGIN:VEVENT
UID:5b07667f2b6a2856b32f3f91@squarespace.com
DTSTAMP:20180601T064944Z
DTSTART:20180830T003000Z
DTEND:20180830T053000Z
SUMMARY:Introduction to Modern Calligraphy
END:VEVENT
END:VCALENDAR
