BEGIN:VCALENDAR
VERSION:2.0
PRODID:-//Squarespace Inc/Squarespace 6//v6//EN
BEGIN:VEVENT
UID:5b67b29e575d1f9e8ad02a76@squarespace.com
DTSTAMP:20180806T034337Z
DTSTART:20180818T003000Z
DTEND:20180818T063000Z
SUMMARY:Drawing with Precious Metals Workshop with Carole Bann
END:VEVENT
END:VCALENDAR
