BEGIN:VCALENDAR
VERSION:2.0
PRODID:-//Squarespace Inc/Squarespace 6//v6//EN
BEGIN:VEVENT
UID:5b0e434a758d4689507a7d94@squarespace.com
DTSTAMP:20180601T055604Z
DTSTART:20180711T010000Z
DTEND:20180711T060000Z
SUMMARY:Busy Hands Arty Crafts Children's Workshop
END:VEVENT
END:VCALENDAR
