BEGIN:VCALENDAR
VERSION:2.0
PRODID:-//Squarespace Inc/Squarespace 6//v6//EN
BEGIN:VEVENT
UID:5b20bf94758d46d91557e7ce@squarespace.com
DTSTAMP:20180613T073712Z
DTSTART:20180729T003000Z
DTEND:20180729T033000Z
SUMMARY:Drypoint etching workshop
END:VEVENT
END:VCALENDAR
