BEGIN:VCALENDAR
VERSION:2.0
PRODID:-//Squarespace Inc/Squarespace 6//v6//EN
BEGIN:VEVENT
UID:5a850a96f9619a43e47383e6@squarespace.com
DTSTAMP:20180215T042419Z
DTSTART:20180318T023000Z
DTEND:20180318T053000Z
SUMMARY:ALTERED BOOK ART JOURNAL WORKSHOP
END:VEVENT
END:VCALENDAR
