BEGIN:VCALENDAR
VERSION:2.0
PRODID:-//Squarespace Inc/Squarespace 6//v6//EN
BEGIN:VEVENT
UID:5a8509db652deaeccff2fbed@squarespace.com
DTSTAMP:20180215T041918Z
DTSTART:20180225T013000Z
DTEND:20180225T050000Z
SUMMARY:LEGO ANIMATION WORKSHOP
END:VEVENT
END:VCALENDAR
