BEGIN:VCALENDAR
VERSION:2.0
PRODID:-//Squarespace Inc/Squarespace 6//v6//EN
BEGIN:VEVENT
UID:5bb57d1bc830258437b72858@squarespace.com
DTSTAMP:20181004T025647Z
DTSTART:20181125T000000Z
DTEND:20181125T050000Z
SUMMARY:Explore Acrylic Painting With Gaynor Hartvigsen
END:VEVENT
END:VCALENDAR
