BEGIN:VCALENDAR
VERSION:2.0
PRODID:-//Squarespace Inc/Squarespace 6//v6//EN
BEGIN:VEVENT
UID:59e6918664b05f6bc9848cbf@squarespace.com
DTSTAMP:20171107T235807Z
DTSTART:20171118T013000Z
DTEND:20171118T050000Z
SUMMARY:ANIMATION WORKSHOP WITH GOOROO ANIMATION
END:VEVENT
END:VCALENDAR
