BEGIN:VCALENDAR
VERSION:2.0
PRODID:-//Squarespace Inc/Squarespace 6//v6//EN
BEGIN:VEVENT
UID:59d5aa7bc534a58fca7968de@squarespace.com
DTSTAMP:20171009T063945Z
DTSTART:20171027T233000Z
DTEND:20171028T053000Z
SUMMARY:CERAMIC WORKSHOP WITH GERRY WEDD
END:VEVENT
END:VCALENDAR
