BEGIN:VCALENDAR
VERSION:2.0
PRODID:-//Squarespace Inc/Squarespace 6//v6//EN
BEGIN:VEVENT
UID:5e731e76e857576813bb5870@squarespace.com
DTSTAMP:20201013T030921Z
DTSTART:20200627T003000Z
DTEND:20201011T053000Z
SUMMARY:BARKA - The Forgotten River
END:VEVENT
END:VCALENDAR
